BEGIN:VCALENDAR
VERSION:2.0
PRODID:-//Westliches Tantra - ECPv6.15.18//NONSGML v1.0//EN
CALSCALE:GREGORIAN
METHOD:PUBLISH
X-ORIGINAL-URL:https://westliches-tantra.de
X-WR-CALDESC:Veranstaltungen für Westliches Tantra
REFRESH-INTERVAL;VALUE=DURATION:PT1H
X-Robots-Tag:noindex
X-PUBLISHED-TTL:PT1H
BEGIN:VTIMEZONE
TZID:UTC
BEGIN:STANDARD
TZOFFSETFROM:+0000
TZOFFSETTO:+0000
TZNAME:UTC
DTSTART:20260101T000000
END:STANDARD
END:VTIMEZONE
BEGIN:VEVENT
DTSTART;TZID=UTC:20270619T170000
DTEND;TZID=UTC:20270619T233000
DTSTAMP:20260422T085633
CREATED:20260315T184343Z
LAST-MODIFIED:20260315T184343Z
UID:1812-1813424400-1813447800@westliches-tantra.de
SUMMARY:66. RTN Das tantrische Ritual der Sommersonnenwende (Litha) 19.06.27
DESCRIPTION:19.06.27 in Köln-Dellbrück – Als eines der ältesten Feste der Menschheit wurde und wird die Sommersonnenwende fast auf der ganzen Welt gefeiert und männliche und weibliche Sonnengottheiten verehrt. Das Fest hatte so große Bedeutung\, dass es in einigen Kulturen bis zu 12-tägige Festzeiten gab und die Germanen hielten zu Mittsommer ihre „Thing“\, die großen Treffen der Volksvertretung\, ab. \nSchon in vorchristlicher Zeit wurde bei unseren keltisch-germanischen Vorfahren das Litha-Fest als Feuer- und Sonnenfest gefeiert. In dieser Zeit gibt es die längsten Tage des Sonnenjahres\, die Sonne hat ihren Höhepunkt und ihre volle Kraft erreicht\, die Tage werden nun wieder kürzer. Die Zeit der Aussaat ist vorbei. Alles wächst\, blüht und reift heran. Es ist die Zeit des Wachstums und des Reifens. \nLitha stellte einen besonderen Höhepunkt magischer Energie dar; man glaubte\, dass der Termin besonders günstig für Liebes- und Heilzauber sowie für das Zurücklassen negativer Energien sei. \nMit dem Sprung über Sonnwendfeuer\, die der Sonne mehr Kraft verleihen\, sollten wurde beabsichtigt den Wachstum des Getreides zu beeinflussen (je höher der Sprung\, desto größer\, hoffte man\, wuchsen die Halme und Ähren). Außerdem versprach der Sprung über das Feuer baldige Heirat und Schutz vor Hexen und Geistern. \nAuf dieser Rheinischen TantraNacht beschäftigen wir uns mit Sonne und Licht\, Wachsen und Reifen\, innerem Feuer und seinem Ausdruck. Die vorherschende Kleiderfarbe bei unseren Abendritualen wird Gelb\, Orange und Rot sein. Der Sommer ist die Zeit des sinnlichen Genießens\, der leuchtenden Farben und der schwellenden Formen – genau das Richtige für uns. \nAnsonsten folgt auch dieses Themen-Event dem üblichen Programmablauf der Rheinische TantraNächte. Weitere ausführliche Informationen über unsere Idee und Vision für die Rheinischen TantraNächte\, die Teilnahmevoraussetzungen\, unsere Kontaktdaten und sonstige Hinweise findest du auf dieser Webseite. \nVeranstaltungsadresse: Dance-Akademie\, Leskan Park\, Waltherstr. 49-51\, 51069 Köln-Dellbrück \nTeilnahmegebühr:\n80\,00 EUR bei Einzelpersonen       (Warum ist der Preis für Einzelpersonen höher?)\n150\,00 EUR bei Paaranmeldungen (75\,00 EUR pro Person)   (Was ist der Paarbonus?) \nTeilnahmevoraussetzungen: \n\nVerbindliche Anmeldung über die Anmeldeformulare\, die du am Ende dieser Website aufrufen kannst\, und Teilnahmebestätigung durch uns.\nVolljährigkeit und Zugehörigkeit zu der Zielgruppe\, an die sich die Rheinischen TantraNächte richten.\nVorabüberweisung der Teilnahmegebühr nach Erhalt unserer Bestätigungs-E-Mail.\nWirkliche innere Entscheidung\, bei diesem Event teilnehmen zu wollen\, um dir und uns Kosten und Mühe zu sparen. Da wir die Events nur anbieten können\, wenn wir verlässlich planen können und wir uns zudem um einen Ausgleich der Geschlechter bemühen\, ist es ein großer Aufwand Ersatz zu finden (wenn überhaupt möglich)\, wenn kurzfristige Absagen erfolgen. Dieser hohe Aufwand ist auch der Grund\, warum in unseren Teilnahmebedingungen steht\, dass wir bei kurzfristigen Abmeldungen keine Rückzahlung der Teilnahmegebühr vornehmen können. Eine ausführliche Stellungnahme findest du auf der Seite Zum Thema „Verbindliche Anmeldung“\n\nAnmeldungsformular \n\n\n  \n\n\n\n Vorname*\n \n Nachname*\n \n Straße*\n \n PLZ*\n \n Ort*\n \n Land*\n \n Deine E-Mail-Adresse*\n \n Mobil-Nr.*\n \n_______________________________________________________________________________\n \n Wie hast du von uns erfahren?\n \n \n Was sind deine Hauptbeweggründe\, um an diesem Event teilzunehmen?\n \n \n Hast du schon einmal andere Tantraseminare oder Persönlichkeitsfortbildungen besucht?\n \n________________________________________________________________\n \nTeilnahmebedingungen\nBitte lese dir unsere Teilnahmebedingungen durch - insbesondere die Stornierungsregeln - und bestätige sie uns: https://rheinischetantranacht.de/teilnahmebedingungen/\nJA - Ich akzeptiere die TeilnahmebedingungenNein - Ich akzeptiere die Teilnahmebedingungen nicht und kann deswegen nicht teilnehmen\n \n\n \n\n\n\n  \nWeitere Infos für unsere Teilnehmer: \n\nUnsere Vision für die Rheinischen TantraNächte\nFür welche Menschen sind die Rheinischen TantraNächte geeignet?\nFragen und Antworten zur Rheinischen TantraNacht\nInfos für angemeldete Teilnehmer*innen
URL:https://westliches-tantra.de/event/66-rtn-das-tantrische-ritual-der-sommersonnenwende-litha-19-06-27/
LOCATION:Ballett-Dance Akademie\, Waltherstraße 49-51\, Köln Dellbrück\, NRW\, 51069\, Germany
ATTACH;FMTTYPE=image/png:https://westliches-tantra.de/wp-content/uploads/2026/03/das-tantrische-ritual-der-sommersonnenwende_660x330.png
ORGANIZER;CN="Felice Pospiech & Ralf Lieder":MAILTO:mail@rheinische-tantranacht.de
END:VEVENT
END:VCALENDAR